Workbook
Name AREA: #REF!
Name AREA: #REF!
Name AREA: #REF!
Name AREA: #REF!
Name AREA: #REF!
Name AREA: #REF!
Name AREA: #REF!
Name AREA: #REF!
Name AREA: #REF!
Name AREA: #REF!
Name AREA: #REF!
Name AREA: #REF!
Name data: [1]Sheet1!$B$1:$C$39
Name 상위코드: #REF!
Name 상위코드: #REF!
Name 상위코드: #REF!
Name 상위코드: #REF!
Name 상위코드: #REF!
Name 상위코드: #REF!
Name 상위코드: #REF!
Name 상위코드: #REF!
Name 상위코드: #REF!
Name 상위코드: #REF!
Name 상위코드: #REF!
Name 상위코드: #REF!
Name 세부코드: #REF!
Name 세부코드: #REF!
Name 세부코드: #REF!
Name 세부코드: #REF!
Name 세부코드: #REF!
Name 세부코드: #REF!
Name 세부코드: #REF!
Name 세부코드: #REF!
Name 세부코드: #REF!
Name 세부코드: #REF!
Name 세부코드: #REF!
Name 세부코드: #REF!
Name 최상위코드: #REF!
Name 최상위코드: #REF!
Name 최상위코드: #REF!
Name 최상위코드: #REF!
Name 최상위코드: #REF!
Name 최상위코드: #REF!
Name 최상위코드: #REF!
Name 최상위코드: #REF!
Name 최상위코드: #REF!
Name 최상위코드: #REF!
Name 최상위코드: #REF!
Name 최상위코드: #REF!

Sheet 수시일반전형
A2: 2013학년도 신입학 수시 일반전형 최종 등록자(입학생) 평균 성적현황
A5: 단과대학 | B5: 모집단위명 | D5: 모집 인원 | E5: 지원 인원 | F5: 경쟁률 | G5: 입학 인원 | H5: 학생부 등급 (평균) | I5: 표준 편차 | J5: 추가발표 최종 예비순위
A6: 농업생명 과학대학 | B6: 식물생명환경과학과 | C6: 11 | D6: 31 | E6: 277 | F6: 8.9 | G6: 28 | H6: 3.6717857 | I6: 0.3772367 | J6: 32
B7: 동물생명환경과학과 | C7: 12 | D7: 40 | E7: 397 | F7: 9.9 | G7: 39 | H7: 3.75 | I7: 0.2339954 | J7: 28
B8: 원예학과 | C8: 13 | D8: 22 | E8: 149 | F8: 6.8 | G8: 20 | H8: 3.7915 | I8: 0.38024038 | J8: 14
B9: 지역자원시스템공학과 | C9: 14 | D9: 13 | E9: 82 | F9: 6.3 | G9: 13 | H9: 4.3176923 | I9: 0.5849938 | J9: 14
B10: 생명공학과 | C10: 15 | D10: 13 | E10: 126 | F10: 9.7 | G10: 13 | H10: 2.61 | I10: 0.35220187 | J10: 17
A11: 공과대학 | B11: 토목안전환경공학과 | C11: 21 | D11: 56 | E11: 393 | F11: 7 | G11: 53 | H11: 3.9443396 | I11: 0.3158069 | J11: 58
B12: 건축학부-건축학전공(5년) | C12: 22 | D12: 9 | E12: 188 | F12: 20.9 | G12: 8 | H12: 3.075 | I12: 0.27645072 | J12: 11
B13: 건축학부-건축공학전공 | C13: 23 | D13: 9 | E13: 209 | F13: 23.2 | G13: 7 | H13: 3.3657143 | I13: 0.16543079 | J13: 9
B14: 화학공학과 | C14: 24 | D14: 20 | E14: 181 | F14: 9.1 | G14: 18 | H14: 2.7622222 | I14: 0.2844401 | J14: 33
B15: 식품생물공학과 | C15: 25 | D15: 20 | E15: 175 | F15: 8.8 | G15: 20 | H15: 3.129 | I15: 0.27301831 | J15: 29
B16: 컴퓨터웹정보공학과 | C16: 26 | D16: 29 | E16: 244 | F16: 8.4 | G16: 27 | H16: 3.2751852 | I16: 0.32606941 | J16: 29
B17: 전기전자제어공학과 | C17: 27 | D17: 70 | E17: 522 | F17: 7.5 | G17: 59 | H17: 3.349661 | I17: 0.35225167 | J17: 93
B18: 디자인학과-무실기 | C18: 28 | D18: 18 | E18: 157 | F18: 8.7 | G18: 15 | H18: 2.9766667 | I18: 0.47215346 | J18: 21
B19: 기계공학과 | C19: 31 | D19: 16 | E19: 236 | F19: 14.8 | G19: 13 | H19: 2.8438462 | I19: 0.26511357 | J19: 36
A20: 자연과학 대학 | B20: 조경학과 | C20: 41 | D20: 27 | E20: 219 | F20: 8.1 | G20: 26 | H20: 3.3334615 | I20: 0.29194233 | J20: 26
B21: 의류산업학과 | C21: 42 | D21: 12 | E21: 171 | F21: 14.3 | G21: 12 | H21: 3.4858333 | I21: 0.48004268 | J21: 14
B22: 영양조리과학과 | C22: 43 | D22: 12 | E22: 151 | F22: 12.6 | G22: 12 | H22: 3.1083333 | I22: 0.23992476 | J22: 7
B23: 아동가족복지학과 | C23: 44 | D23: 12 | E23: 129 | F23: 10.8 | G23: 11 | H23: 2.9709091 | I23: 0.38629839 | J23: 18
B24: 응용수학과 | C24: 45 | D24: 12 | E24: 110 | F24: 9.2 | G24: 11 | H24: 3.0045455 | I24: 0.41341952 | J24: 18
B25: 스포츠과학과 | C25: 46 | D25: 10 | E25: 111 | F25: 11.1 | G25: 10 | H25: 3.263 | I25: 0.58388441 | J25: 2
A26: 인문사회 과학대학 | B26: 경영학과 | C26: 51 | D26: 24 | E26: 253 | F26: 10.5 | G26: 20 | H26: 2.279 | I26: 0.34401889 | J26: 41
B27: 행정학과 | C27: 52 | D27: 16 | E27: 173 | F27: 10.8 | G27: 14 | H27: 2.1328571 | I27: 0.3037722 | J27: 28
B28: 법학과 | C28: 53 | D28: 25 | E28: 196 | F28: 7.8 | G28: 23 | H28: 2.6634783 | I28: 0.18855535 | J28: 30
B29: 영어학과 | C29: 54 | D29: 16 | E29: 149 | F29: 9.3 | G29: 15 | H29: 2.602 | I29: 0.30919681 | J29: 21
B30: 미디어문예창작학과 | C30: 55 | D30: 12 | E30: 151 | F30: 12.6 | G30: 11 | H30: 2.5290909 | I30: 0.30991068 | J30: 18
A31: 공과대학 (야간) | B31: 토목안전환경공학과(야) | C31: 61 | D31: 40 | E31: 150 | F31: 3.8 | G31: 35 | H31: 5.3814286 | I31: 0.74718956 | J31: 10
B32: 화학공학과(야) | C32: 62 | D32: 11 | E32: 72 | F32: 6.5 | G32: 10 | H32: 4.173 | I32: 0.1296958 | J32: 3
B33: 식품생물공학과(야) | C33: 63 | D33: 16 | E33: 95 | F33: 5.9 | G33: 16 | H33: 4.625625 | I33: 0.24428387 | J33: 4
B34: 전기전자제어공학과(야) | C34: 64 | D34: 13 | E34: 79 | F34: 6.1 | G34: 13 | H34: 4.3569231 | I34: 0.38101857 | J34: 1
A35: 총계 | C35: 총합계 | D35: 624 | E35: 5545 | F35: 8.9 | G35: 572 | H35: 3.4625524 | I35: 0.8388594

Sheet 정시추가일반전형
A2: 2013학년도 신입학 정시 일반전형 최종등록자(입학생) 평균 성적현황
A4: 단과 대학 | B4: 모집단위명 | D4: 모집 인원 | E4: 지원 인원 | F4: 경쟁률 | G4: 입학 인원 | H4: 학생부 (등급) | J4: 대학수학능력시험(백분위) | P4: 총점 | R4: 추가발표 최종 예비순위
J5: 수리(언어) | L5: 외국어 | N5: 탐구(수리)
H6: 평균 | I6: 표준 편차 | J6: 평균 | K6: 표준 편차 | L6: 평균 | M6: 표준 편차 | N6: 평균 | O6: 표준 편차 | P6: 평균 | Q6: 표준 편차
A7: 농업 생명 과학 대학 | B7: 식물생명환경과학과 | C7: 11 | D7: 27 | E7: 193 | F7: =ROUND((E7/D7),1) -> 7.1 | G7: 27 | H7: =VLOOKUP($C7,[2]학생부성적!$A$5:$D$36,3,FALSE) -> 4.1015385 | I7: =VLOOKUP($C7,[2]학생부성적!$A$5:$D$36,4,FALSE) -> 0.71792807 | J7: =VLOOKUP($C7,[2]대학수학능력시험성적!$A$2:$J$32,3,FALSE) -> 74.222222 | K7: =VLOOKUP($C7,[2]대학수학능력시험성적!$A$2:$J$32,4,FALSE) -> 13.331481 | L7: =VLOOKUP($C7,[2]대학수학능력시험성적!$A$2:$J$32,5,FALSE) -> 67.407407 | M7: =VLOOKUP($C7,[2]대학수학능력시험성적!$A$2:$J$32,6,FALSE) -> 10.45009 | N7: =VLOOKUP($C7,[2]대학수학능력시험성적!$A$2:$J$32,7,FALSE) -> 75.592593 | O7: =VLOOKUP($C7,[2]대학수학능력시험성적!$A$2:$J$32,8,FALSE) -> 12.594118 | P7: =VLOOKUP($C7,[2]대학수학능력시험성적!$A$2:$J$32,9,FALSE) -> 796.09667 | Q7: =VLOOKUP($C7,[2]대학수학능력시험성적!$A$2:$J$32,10,FALSE) -> 17.563737 | R7: =VLOOKUP(B7,[2]Sheet1!$D$2:$G$31,4,FALSE) -> 24
B8: 동물생명환경과학과 | C8: 12 | D8: 31 | E8: 153 | F8: =ROUND((E8/D8),1) -> 4.9 | G8: 28 | H8: =VLOOKUP($C8,[2]학생부성적!$A$5:$D$36,3,FALSE) -> 4.0021429 | I8: =VLOOKUP($C8,[2]학생부성적!$A$5:$D$36,4,FALSE) -> 0.52232555 | J8: =VLOOKUP($C8,[2]대학수학능력시험성적!$A$2:$J$32,3,FALSE) -> 69.785714 | K8: =VLOOKUP($C8,[2]대학수학능력시험성적!$A$2:$J$32,4,FALSE) -> 11.117416 | L8: =VLOOKUP($C8,[2]대학수학능력시험성적!$A$2:$J$32,5,FALSE) -> 66.428571 | M8: =VLOOKUP($C8,[2]대학수학능력시험성적!$A$2:$J$32,6,FALSE) -> 12.245782 | N8: =VLOOKUP($C8,[2]대학수학능력시험성적!$A$2:$J$32,7,FALSE) -> 76.035714 | O8: =VLOOKUP($C8,[2]대학수학능력시험성적!$A$2:$J$32,8,FALSE) -> 13.829271 | P8: =VLOOKUP($C8,[2]대학수학능력시험성적!$A$2:$J$32,9,FALSE) -> 791.29714 | Q8: =VLOOKUP($C8,[2]대학수학능력시험성적!$A$2:$J$32,10,FALSE) -> 16.2405 | R8: =VLOOKUP(B8,[2]Sheet1!$D$2:$G$31,4,FALSE) -> 14
B9: 원예학과 | C9: 13 | D9: 18 | E9: 92 | F9: =ROUND((E9/D9),1) -> 5.1 | G9: 18 | H9: =VLOOKUP($C9,[2]학생부성적!$A$5:$D$36,3,FALSE) -> 4.0177778 | I9: =VLOOKUP($C9,[2]학생부성적!$A$5:$D$36,4,FALSE) -> 0.65015003 | J9: =VLOOKUP($C9,[2]대학수학능력시험성적!$A$2:$J$32,3,FALSE) -> 71.222222 | K9: =VLOOKUP($C9,[2]대학수학능력시험성적!$A$2:$J$32,4,FALSE) -> 13.062055 | L9: =VLOOKUP($C9,[2]대학수학능력시험성적!$A$2:$J$32,5,FALSE) -> 69.333333 | M9: =VLOOKUP($C9,[2]대학수학능력시험성적!$A$2:$J$32,6,FALSE) -> 9.4162979 | N9: =VLOOKUP($C9,[2]대학수학능력시험성적!$A$2:$J$32,7,FALSE) -> 69.555556 | O9: =VLOOKUP($C9,[2]대학수학능력시험성적!$A$2:$J$32,8,FALSE) -> 19.822048 | P9: =VLOOKUP($C9,[2]대학수학능력시험성적!$A$2:$J$32,9,FALSE) -> 788.13056 | Q9: =VLOOKUP($C9,[2]대학수학능력시험성적!$A$2:$J$32,10,FALSE) -> 12.054513 | R9: =VLOOKUP(B9,[2]Sheet1!$D$2:$G$31,4,FALSE) -> 12
B10: 지역자원시스템공학과 | C10: 14 | D10: 10 | E10: 43 | F10: =ROUND((E10/D10),1) -> 4.3 | G10: 10 | H10: =VLOOKUP($C10,[2]학생부성적!$A$5:$D$36,3,FALSE) -> 4.083 | I10: =VLOOKUP($C10,[2]학생부성적!$A$5:$D$36,4,FALSE) -> 0.85045929 | J10: =VLOOKUP($C10,[2]대학수학능력시험성적!$A$2:$J$32,3,FALSE) -> 79 | K10: =VLOOKUP($C10,[2]대학수학능력시험성적!$A$2:$J$32,4,FALSE) -> 7.3891813 | L10: =VLOOKUP($C10,[2]대학수학능력시험성적!$A$2:$J$32,5,FALSE) -> 62.6 | M10: =VLOOKUP($C10,[2]대학수학능력시험성적!$A$2:$J$32,6,FALSE) -> 11.959933 | N10: =VLOOKUP($C10,[2]대학수학능력시험성적!$A$2:$J$32,7,FALSE) -> 74.5 | O10: =VLOOKUP($C10,[2]대학수학능력시험성적!$A$2:$J$32,8,FALSE) -> 11.543396 | P10: =VLOOKUP($C10,[2]대학수학능력시험성적!$A$2:$J$32,9,FALSE) -> 796.699 | Q10: =VLOOKUP($C10,[2]대학수학능력시험성적!$A$2:$J$32,10,FALSE) -> 17.708952 | R10: =VLOOKUP(B10,[2]Sheet1!$D$2:$G$31,4,FALSE) -> 4
B11: 생명공학과 | C11: 15 | D11: 11 | E11: 52 | F11: =ROUND((E11/D11),1) -> 4.7 | G11: 11 | H11: =VLOOKUP($C11,[2]학생부성적!$A$5:$D$36,3,FALSE) -> 4.1318182 | I11: =VLOOKUP($C11,[2]학생부성적!$A$5:$D$36,4,FALSE) -> 1.0448125 | J11: =VLOOKUP($C11,[2]대학수학능력시험성적!$A$2:$J$32,3,FALSE) -> 75.818182 | K11: =VLOOKUP($C11,[2]대학수학능력시험성적!$A$2:$J$32,4,FALSE) -> 14.005312 | L11: =VLOOKUP($C11,[2]대학수학능력시험성적!$A$2:$J$32,5,FALSE) -> 66.545455 | M11: =VLOOKUP($C11,[2]대학수학능력시험성적!$A$2:$J$32,6,FALSE) -> 7.9242279 | N11: =VLOOKUP($C11,[2]대학수학능력시험성적!$A$2:$J$32,7,FALSE) -> 78.636364 | O11: =VLOOKUP($C11,[2]대학수학능력시험성적!$A$2:$J$32,8,FALSE) -> 5.8662785 | P11: =VLOOKUP($C11,[2]대학수학능력시험성적!$A$2:$J$32,9,FALSE) -> 803.90182 | Q11: =VLOOKUP($C11,[2]대학수학능력시험성적!$A$2:$J$32,10,FALSE) -> 33.716817 | R11: =VLOOKUP(B11,[2]Sheet1!$D$2:$G$31,4,FALSE) -> 21
A12: 공과 대학 | B12: 토목안전환경공학과 | C12: 21 | D12: 53 | E12: 214 | F12: =ROUND((E12/D12),1) -> 4 | G12: 53 | H12: =VLOOKUP($C12,[2]학생부성적!$A$5:$D$36,3,FALSE) -> 4.0338462 | I12: =VLOOKUP($C12,[2]학생부성적!$A$5:$D$36,4,FALSE) -> 0.78929412 | J12: =VLOOKUP($C12,[2]대학수학능력시험성적!$A$2:$J$32,3,FALSE) -> 71.886792 | K12: =VLOOKUP($C12,[2]대학수학능력시험성적!$A$2:$J$32,4,FALSE) -> 13.105753 | L12: =VLOOKUP($C12,[2]대학수학능력시험성적!$A$2:$J$32,5,FALSE) -> 63.075472 | M12: =VLOOKUP($C12,[2]대학수학능력시험성적!$A$2:$J$32,6,FALSE) -> 12.698015 | N12: =VLOOKUP($C12,[2]대학수학능력시험성적!$A$2:$J$32,7,FALSE) -> 76 | O12: =VLOOKUP($C12,[2]대학수학능력시험성적!$A$2:$J$32,8,FALSE) -> 12.925038 | P12: =VLOOKUP($C12,[2]대학수학능력시험성적!$A$2:$J$32,9,FALSE) -> 791.71887 | Q12: =VLOOKUP($C12,[2]대학수학능력시험성적!$A$2:$J$32,10,FALSE) -> 17.352227 | R12: =VLOOKUP(B12,[2]Sheet1!$D$2:$G$31,4,FALSE) -> 25
B13: 건축학부-건축학전공(5년) | C13: 22 | D13: 9 | E13: 54 | F13: =ROUND((E13/D13),1) -> 6 | G13: 9 | H13: =VLOOKUP($C13,[2]학생부성적!$A$5:$D$36,3,FALSE) -> 3.5355556 | I13: =VLOOKUP($C13,[2]학생부성적!$A$5:$D$36,4,FALSE) -> 0.67443987 | J13: =VLOOKUP($C13,[2]대학수학능력시험성적!$A$2:$J$32,3,FALSE) -> 74.555556 | K13: =VLOOKUP($C13,[2]대학수학능력시험성적!$A$2:$J$32,4,FALSE) -> 16.445946 | L13: =VLOOKUP($C13,[2]대학수학능력시험성적!$A$2:$J$32,5,FALSE) -> 74.888889 | M13: =VLOOKUP($C13,[2]대학수학능력시험성적!$A$2:$J$32,6,FALSE) -> 9.4333268 | N13: =VLOOKUP($C13,[2]대학수학능력시험성적!$A$2:$J$32,7,FALSE) -> 79 | O13: =VLOOKUP($C13,[2]대학수학능력시험성적!$A$2:$J$32,8,FALSE) -> 12.719189 | P13: =VLOOKUP($C13,[2]대학수학능력시험성적!$A$2:$J$32,9,FALSE) -> 824.52444 | Q13: =VLOOKUP($C13,[2]대학수학능력시험성적!$A$2:$J$32,10,FALSE) -> 22.475903 | R13: =VLOOKUP(B13,[2]Sheet1!$D$2:$G$31,4,FALSE) -> 6
B14: 건축학부-건축공학전공 | C14: 23 | D14: 8 | E14: 45 | F14: =ROUND((E14/D14),1) -> 5.6 | G14: 9 | H14: =VLOOKUP($C14,[2]학생부성적!$A$5:$D$36,3,FALSE) -> 4.3211111 | I14: =VLOOKUP($C14,[2]학생부성적!$A$5:$D$36,4,FALSE) -> 0.43280595 | J14: =VLOOKUP($C14,[2]대학수학능력시험성적!$A$2:$J$32,3,FALSE) -> 72.222222 | K14: =VLOOKUP($C14,[2]대학수학능력시험성적!$A$2:$J$32,4,FALSE) -> 13.90266 | L14: =VLOOKUP($C14,[2]대학수학능력시험성적!$A$2:$J$32,5,FALSE) -> 72.111111 | M14: =VLOOKUP($C14,[2]대학수학능력시험성적!$A$2:$J$32,6,FALSE) -> 8.0476973 | N14: =VLOOKUP($C14,[2]대학수학능력시험성적!$A$2:$J$32,7,FALSE) -> 79.666667 | O14: =VLOOKUP($C14,[2]대학수학능력시험성적!$A$2:$J$32,8,FALSE) -> 8.0829038 | P14: =VLOOKUP($C14,[2]대학수학능력시험성적!$A$2:$J$32,9,FALSE) -> 803.66111 | Q14: =VLOOKUP($C14,[2]대학수학능력시험성적!$A$2:$J$32,10,FALSE) -> 21.695619 | R14: =VLOOKUP(B14,[2]Sheet1!$D$2:$G$31,4,FALSE) -> 9
B15: 화학공학과 | C15: 24 | D15: 18 | E15: 99 | F15: =ROUND((E15/D15),1) -> 5.5 | G15: 18 | H15: =VLOOKUP($C15,[2]학생부성적!$A$5:$D$36,3,FALSE) -> 3.2822222 | I15: =VLOOKUP($C15,[2]학생부성적!$A$5:$D$36,4,FALSE) -> 0.5419159 | J15: =VLOOKUP($C15,[2]대학수학능력시험성적!$A$2:$J$32,3,FALSE) -> 74.222222 | K15: =VLOOKUP($C15,[2]대학수학능력시험성적!$A$2:$J$32,4,FALSE) -> 13.053546 | L15: =VLOOKUP($C15,[2]대학수학능력시험성적!$A$2:$J$32,5,FALSE) -> 67.111111 | M15: =VLOOKUP($C15,[2]대학수학능력시험성적!$A$2:$J$32,6,FALSE) -> 11.25408 | N15: =VLOOKUP($C15,[2]대학수학능력시험성적!$A$2:$J$32,7,FALSE) -> 84.722222 | O15: =VLOOKUP($C15,[2]대학수학능력시험성적!$A$2:$J$32,8,FALSE) -> 8.9554797 | P15: =VLOOKUP($C15,[2]대학수학능력시험성적!$A$2:$J$32,9,FALSE) -> 835.03778 | Q15: =VLOOKUP($C15,[2]대학수학능력시험성적!$A$2:$J$32,10,FALSE) -> 11.782075 | R15: =VLOOKUP(B15,[2]Sheet1!$D$2:$G$31,4,FALSE) -> 11
B16: 식품생물공학과 | C16: 25 | D16: 16 | E16: 147 | F16: =ROUND((E16/D16),1) -> 9.2 | G16: 16 | H16: =VLOOKUP($C16,[2]학생부성적!$A$5:$D$36,3,FALSE) -> 3.6307692 | I16: =VLOOKUP($C16,[2]학생부성적!$A$5:$D$36,4,FALSE) -> 0.79768378 | J16: =VLOOKUP($C16,[2]대학수학능력시험성적!$A$2:$J$32,3,FALSE) -> 71.125 | K16: =VLOOKUP($C16,[2]대학수학능력시험성적!$A$2:$J$32,4,FALSE) -> 9.2592859 | L16: =VLOOKUP($C16,[2]대학수학능력시험성적!$A$2:$J$32,5,FALSE) -> 69.5 | M16: =VLOOKUP($C16,[2]대학수학능력시험성적!$A$2:$J$32,6,FALSE) -> 7.9372539 | N16: =VLOOKUP($C16,[2]대학수학능력시험성적!$A$2:$J$32,7,FALSE) -> 82.5625 | O16: =VLOOKUP($C16,[2]대학수학능력시험성적!$A$2:$J$32,8,FALSE) -> 7.7457145 | P16: =VLOOKUP($C16,[2]대학수학능력시험성적!$A$2:$J$32,9,FALSE) -> 812.71625 | Q16: =VLOOKUP($C16,[2]대학수학능력시험성적!$A$2:$J$32,10,FALSE) -> 26.037686 | R16: =VLOOKUP(B16,[2]Sheet1!$D$2:$G$31,4,FALSE) -> 5
B17: 컴퓨터웹정보공학과 | C17: 26 | D17: 25 | E17: 178 | F17: =ROUND((E17/D17),1) -> 7.1 | G17: 26 | H17: =VLOOKUP($C17,[2]학생부성적!$A$5:$D$36,3,FALSE) -> 4.0033333 | I17: =VLOOKUP($C17,[2]학생부성적!$A$5:$D$36,4,FALSE) -> 0.79616093 | J17: =VLOOKUP($C17,[2]대학수학능력시험성적!$A$2:$J$32,3,FALSE) -> 78.192308 | K17: =VLOOKUP($C17,[2]대학수학능력시험성적!$A$2:$J$32,4,FALSE) -> 10.436693 | L17: =VLOOKUP($C17,[2]대학수학능력시험성적!$A$2:$J$32,5,FALSE) -> 67.192308 | M17: =VLOOKUP($C17,[2]대학수학능력시험성적!$A$2:$J$32,6,FALSE) -> 10.705927 | N17: =VLOOKUP($C17,[2]대학수학능력시험성적!$A$2:$J$32,7,FALSE) -> 73.5 | O17: =VLOOKUP($C17,[2]대학수학능력시험성적!$A$2:$J$32,8,FALSE) -> 12.625524 | P17: =VLOOKUP($C17,[2]대학수학능력시험성적!$A$2:$J$32,9,FALSE) -> 808.09462 | Q17: =VLOOKUP($C17,[2]대학수학능력시험성적!$A$2:$J$32,10,FALSE) -> 22.756486 | R17: =VLOOKUP(B17,[2]Sheet1!$D$2:$G$31,4,FALSE) -> 20
B18: 전기전자제어공학과 | C18: 27 | D18: 69 | E18: 359 | F18: =ROUND((E18/D18),1) -> 5.2 | G18: 69 | H18: =VLOOKUP($C18,[2]학생부성적!$A$5:$D$36,3,FALSE) -> 3.9406061 | I18: =VLOOKUP($C18,[2]학생부성적!$A$5:$D$36,4,FALSE) -> 0.84923295 | J18: =VLOOKUP($C18,[2]대학수학능력시험성적!$A$2:$J$32,3,FALSE) -> 72.072464 | K18: =VLOOKUP($C18,[2]대학수학능력시험성적!$A$2:$J$32,4,FALSE) -> 14.048899 | L18: =VLOOKUP($C18,[2]대학수학능력시험성적!$A$2:$J$32,5,FALSE) -> 66.811594 | M18: =VLOOKUP($C18,[2]대학수학능력시험성적!$A$2:$J$32,6,FALSE) -> 11.651056 | N18: =VLOOKUP($C18,[2]대학수학능력시험성적!$A$2:$J$32,7,FALSE) -> 77 | O18: =VLOOKUP($C18,[2]대학수학능력시험성적!$A$2:$J$32,8,FALSE) -> 13.119297 | P18: =VLOOKUP($C18,[2]대학수학능력시험성적!$A$2:$J$32,9,FALSE) -> 803.40058 | Q18: =VLOOKUP($C18,[2]대학수학능력시험성적!$A$2:$J$32,10,FALSE) -> 17.320627 | R18: =VLOOKUP(B18,[2]Sheet1!$D$2:$G$31,4,FALSE) -> 50
B19: 디자인학과-발상과표현 | C19: 29 | D19: 28 | E19: 130 | F19: =ROUND((E19/D19),1) -> 4.6 | G19: 29 | H19: =VLOOKUP($C19,[2]학생부성적!$A$5:$D$36,3,FALSE) -> 4.0217241 | I19: =VLOOKUP($C19,[2]학생부성적!$A$5:$D$36,4,FALSE) -> 0.78831146 | J19: =VLOOKUP($C19,[2]대학수학능력시험성적!$A$2:$J$32,3,FALSE) -> 64.931034 | K19: =VLOOKUP($C19,[2]대학수학능력시험성적!$A$2:$J$32,4,FALSE) -> 13.349237 | L19: =VLOOKUP($C19,[2]대학수학능력시험성적!$A$2:$J$32,5,FALSE) -> 57.034483 | M19: =VLOOKUP($C19,[2]대학수학능력시험성적!$A$2:$J$32,6,FALSE) -> 15.951398 | N19: =VLOOKUP($C19,[2]대학수학능력시험성적!$A$2:$J$32,7,FALSE) -> 65.827586 | O19: =VLOOKUP($C19,[2]대학수학능력시험성적!$A$2:$J$32,8,FALSE) -> 14.195844 | P19: =VLOOKUP($C19,[2]대학수학능력시험성적!$A$2:$J$32,9,FALSE) -> 794.63207 | Q19: =VLOOKUP($C19,[2]대학수학능력시험성적!$A$2:$J$32,10,FALSE) -> 27.502785 | R19: =VLOOKUP(B19,[2]Sheet1!$D$2:$G$31,4,FALSE) -> 12
B20: 디자인학과-사고의전환 | C20: 30 | D20: 15 | E20: 77 | F20: =ROUND((E20/D20),1) -> 5.1 | G20: 15 | H20: =VLOOKUP($C20,[2]학생부성적!$A$5:$D$36,3,FALSE) -> 4.4386667 | I20: =VLOOKUP($C20,[2]학생부성적!$A$5:$D$36,4,FALSE) -> 1.1364616 | J20: =VLOOKUP($C20,[2]대학수학능력시험성적!$A$2:$J$32,3,FALSE) -> 64.733333 | K20: =VLOOKUP($C20,[2]대학수학능력시험성적!$A$2:$J$32,4,FALSE) -> 14.816507 | L20: =VLOOKUP($C20,[2]대학수학능력시험성적!$A$2:$J$32,5,FALSE) -> 58.2 | M20: =VLOOKUP($C20,[2]대학수학능력시험성적!$A$2:$J$32,6,FALSE) -> 13.634271 | N20: =VLOOKUP($C20,[2]대학수학능력시험성적!$A$2:$J$32,7,FALSE) -> 64.733333 | O20: =VLOOKUP($C20,[2]대학수학능력시험성적!$A$2:$J$32,8,FALSE) -> 14.816507 | P20: =VLOOKUP($C20,[2]대학수학능력시험성적!$A$2:$J$32,9,FALSE) -> 796.23067 | Q20: =VLOOKUP($C20,[2]대학수학능력시험성적!$A$2:$J$32,10,FALSE) -> 14.524511 | R20: =VLOOKUP(B20,[2]Sheet1!$D$2:$G$31,4,FALSE) -> 7
B21: 기계공학과 | C21: 31 | D21: 16 | E21: 148 | F21: =ROUND((E21/D21),1) -> 9.3 | G21: 16 | H21: =VLOOKUP($C21,[2]학생부성적!$A$5:$D$36,3,FALSE) -> 3.7971429 | I21: =VLOOKUP($C21,[2]학생부성적!$A$5:$D$36,4,FALSE) -> 0.63268621 | J21: =VLOOKUP($C21,[2]대학수학능력시험성적!$A$2:$J$32,3,FALSE) -> 74.9375 | K21: =VLOOKUP($C21,[2]대학수학능력시험성적!$A$2:$J$32,4,FALSE) -> 11.227582 | L21: =VLOOKUP($C21,[2]대학수학능력시험성적!$A$2:$J$32,5,FALSE) -> 66.4375 | M21: =VLOOKUP($C21,[2]대학수학능력시험성적!$A$2:$J$32,6,FALSE) -> 14.983194 | N21: =VLOOKUP($C21,[2]대학수학능력시험성적!$A$2:$J$32,7,FALSE) -> 81.0625 | O21: =VLOOKUP($C21,[2]대학수학능력시험성적!$A$2:$J$32,8,FALSE) -> 10.974224 | P21: =VLOOKUP($C21,[2]대학수학능력시험성적!$A$2:$J$32,9,FALSE) -> 813.9625 | Q21: =VLOOKUP($C21,[2]대학수학능력시험성적!$A$2:$J$32,10,FALSE) -> 16.722913 | R21: =VLOOKUP(B21,[2]Sheet1!$D$2:$G$31,4,FALSE) -> 19
A22: 자연 과학 대학 | B22: 조경학과 | C22: 41 | D22: 22 | E22: 136 | F22: =ROUND((E22/D22),1) -> 6.2 | G22: 22 | H22: =VLOOKUP($C22,[2]학생부성적!$A$5:$D$36,3,FALSE) -> 4.4755556 | I22: =VLOOKUP($C22,[2]학생부성적!$A$5:$D$36,4,FALSE) -> 0.85179042 | J22: =VLOOKUP($C22,[2]대학수학능력시험성적!$A$2:$J$32,3,FALSE) -> 74.090909 | K22: =VLOOKUP($C22,[2]대학수학능력시험성적!$A$2:$J$32,4,FALSE) -> 10.304055 | L22: =VLOOKUP($C22,[2]대학수학능력시험성적!$A$2:$J$32,5,FALSE) -> 71.227273 | M22: =VLOOKUP($C22,[2]대학수학능력시험성적!$A$2:$J$32,6,FALSE) -> 6.2006731 | N22: =VLOOKUP($C22,[2]대학수학능력시험성적!$A$2:$J$32,7,FALSE) -> 79.409091 | O22: =VLOOKUP($C22,[2]대학수학능력시험성적!$A$2:$J$32,8,FALSE) -> 12.904048 | P22: =VLOOKUP($C22,[2]대학수학능력시험성적!$A$2:$J$32,9,FALSE) -> 799.83955 | Q22: =VLOOKUP($C22,[2]대학수학능력시험성적!$A$2:$J$32,10,FALSE) -> 24.188801 | R22: =VLOOKUP(B22,[2]Sheet1!$D$2:$G$31,4,FALSE) -> 22
B23: 의류산업학과 | C23: 42 | D23: 10 | E23: 60 | F23: =ROUND((E23/D23),1) -> 6 | G23: 10 | H23: =VLOOKUP($C23,[2]학생부성적!$A$5:$D$36,3,FALSE) -> 3.789 | I23: =VLOOKUP($C23,[2]학생부성적!$A$5:$D$36,4,FALSE) -> 0.53651561 | J23: =VLOOKUP($C23,[2]대학수학능력시험성적!$A$2:$J$32,3,FALSE) -> 76.5 | K23: =VLOOKUP($C23,[2]대학수학능력시험성적!$A$2:$J$32,4,FALSE) -> 9.6462428 | L23: =VLOOKUP($C23,[2]대학수학능력시험성적!$A$2:$J$32,5,FALSE) -> 77.5 | M23: =VLOOKUP($C23,[2]대학수학능력시험성적!$A$2:$J$32,6,FALSE) -> 6.1684682 | N23: =VLOOKUP($C23,[2]대학수학능력시험성적!$A$2:$J$32,7,FALSE) -> 76.2 | O23: =VLOOKUP($C23,[2]대학수학능력시험성적!$A$2:$J$32,8,FALSE) -> 13.533662 | P23: =VLOOKUP($C23,[2]대학수학능력시험성적!$A$2:$J$32,9,FALSE) -> 825.431 | Q23: =VLOOKUP($C23,[2]대학수학능력시험성적!$A$2:$J$32,10,FALSE) -> 13.007166 | R23: =VLOOKUP(B23,[2]Sheet1!$D$2:$G$31,4,FALSE) -> 9
B24: 영양조리과학과 | C24: 43 | D24: 10 | E24: 49 | F24: =ROUND((E24/D24),1) -> 4.9 | G24: 10 | H24: =VLOOKUP($C24,[2]학생부성적!$A$5:$D$36,3,FALSE) -> 4.175 | I24: =VLOOKUP($C24,[2]학생부성적!$A$5:$D$36,4,FALSE) -> 0.82395692 | J24: =VLOOKUP($C24,[2]대학수학능력시험성적!$A$2:$J$32,3,FALSE) -> 80.8 | K24: =VLOOKUP($C24,[2]대학수학능력시험성적!$A$2:$J$32,4,FALSE) -> 7.5073298 | L24: =VLOOKUP($C24,[2]대학수학능력시험성적!$A$2:$J$32,5,FALSE) -> 66.7 | M24: =VLOOKUP($C24,[2]대학수학능력시험성적!$A$2:$J$32,6,FALSE) -> 16.468455 | N24: =VLOOKUP($C24,[2]대학수학능력시험성적!$A$2:$J$32,7,FALSE) -> 79.9 | O24: =VLOOKUP($C24,[2]대학수학능력시험성적!$A$2:$J$32,8,FALSE) -> 11.768177 | P24: =VLOOKUP($C24,[2]대학수학능력시험성적!$A$2:$J$32,9,FALSE) -> 808.828 | Q24: =VLOOKUP($C24,[2]대학수학능력시험성적!$A$2:$J$32,10,FALSE) -> 27.347276 | R24: =VLOOKUP(B24,[2]Sheet1!$D$2:$G$31,4,FALSE) -> 9
B25: 아동가족복지학과 | C25: 44 | D25: 10 | E25: 89 | F25: =ROUND((E25/D25),1) -> 8.9 | G25: 10 | H25: =VLOOKUP($C25,[2]학생부성적!$A$5:$D$36,3,FALSE) -> 3.6933333 | I25: =VLOOKUP($C25,[2]학생부성적!$A$5:$D$36,4,FALSE) -> 0.93972809 | J25: =VLOOKUP($C25,[2]대학수학능력시험성적!$A$2:$J$32,3,FALSE) -> 80.7 | K25: =VLOOKUP($C25,[2]대학수학능력시험성적!$A$2:$J$32,4,FALSE) -> 5.6929781 | L25: =VLOOKUP($C25,[2]대학수학능력시험성적!$A$2:$J$32,5,FALSE) -> 74 | M25: =VLOOKUP($C25,[2]대학수학능력시험성적!$A$2:$J$32,6,FALSE) -> 8.7292611 | N25: =VLOOKUP($C25,[2]대학수학능력시험성적!$A$2:$J$32,7,FALSE) -> 82.8 | O25: =VLOOKUP($C25,[2]대학수학능력시험성적!$A$2:$J$32,8,FALSE) -> 9.7754795 | P25: =VLOOKUP($C25,[2]대학수학능력시험성적!$A$2:$J$32,9,FALSE) -> 830.314 | Q25: =VLOOKUP($C25,[2]대학수학능력시험성적!$A$2:$J$32,10,FALSE) -> 21.255176 | R25: =VLOOKUP(B25,[2]Sheet1!$D$2:$G$31,4,FALSE) -> 4
B26: 응용수학과 | C26: 45 | D26: 12 | E26: 43 | F26: =ROUND((E26/D26),1) -> 3.6 | G26: 12 | H26: =VLOOKUP($C26,[2]학생부성적!$A$5:$D$36,3,FALSE) -> 4.2766667 | I26: =VLOOKUP($C26,[2]학생부성적!$A$5:$D$36,4,FALSE) -> 0.81434363 | J26: =VLOOKUP($C26,[2]대학수학능력시험성적!$A$2:$J$32,3,FALSE) -> 76.166667 | K26: =VLOOKUP($C26,[2]대학수학능력시험성적!$A$2:$J$32,4,FALSE) -> 13.508228 | L26: =VLOOKUP($C26,[2]대학수학능력시험성적!$A$2:$J$32,5,FALSE) -> 60.25 | M26: =VLOOKUP($C26,[2]대학수학능력시험성적!$A$2:$J$32,6,FALSE) -> 11.741131 | N26: =VLOOKUP($C26,[2]대학수학능력시험성적!$A$2:$J$32,7,FALSE) -> 74.666667 | O26: =VLOOKUP($C26,[2]대학수학능력시험성적!$A$2:$J$32,8,FALSE) -> 11.728408 | P26: =VLOOKUP($C26,[2]대학수학능력시험성적!$A$2:$J$32,9,FALSE) -> 784.84 | Q26: =VLOOKUP($C26,[2]대학수학능력시험성적!$A$2:$J$32,10,FALSE) -> 12.758998 | R26: =VLOOKUP(B26,[2]Sheet1!$D$2:$G$31,4,FALSE) -> 10
B27: 스포츠과학과 | C27: 46 | D27: 6 | E27: 43 | F27: =ROUND((E27/D27),1) -> 7.2 | G27: 6 | H27: =VLOOKUP($C27,[2]학생부성적!$A$5:$D$36,3,FALSE) -> 3.832 | I27: =VLOOKUP($C27,[2]학생부성적!$A$5:$D$36,4,FALSE) -> 0.53401873 | J27: =VLOOKUP($C27,[2]대학수학능력시험성적!$A$2:$J$32,3,FALSE) -> 73.833333 | K27: =VLOOKUP($C27,[2]대학수학능력시험성적!$A$2:$J$32,4,FALSE) -> 7.1043805 | L27: =VLOOKUP($C27,[2]대학수학능력시험성적!$A$2:$J$32,5,FALSE) -> 71.666667 | M27: =VLOOKUP($C27,[2]대학수학능력시험성적!$A$2:$J$32,6,FALSE) -> 9.3571126 | N27: =VLOOKUP($C27,[2]대학수학능력시험성적!$A$2:$J$32,7,FALSE) -> 78.166667 | O27: =VLOOKUP($C27,[2]대학수학능력시험성적!$A$2:$J$32,8,FALSE) -> 9.0261964 | P27: =VLOOKUP($C27,[2]대학수학능력시험성적!$A$2:$J$32,9,FALSE) -> 813.55833 | Q27: =VLOOKUP($C27,[2]대학수학능력시험성적!$A$2:$J$32,10,FALSE) -> 24.60033 | R27: =VLOOKUP(B27,[2]Sheet1!$D$2:$G$31,4,FALSE) -> 3
A28: 인문 사회 과학 대학 | B28: 경영학과 | C28: 51 | D28: 23 | E28: 108 | F28: =ROUND((E28/D28),1) -> 4.7 | G28: 22 | J28: =VLOOKUP($C28,[2]대학수학능력시험성적!$A$2:$J$32,3,FALSE) -> 84.954545 | K28: =VLOOKUP($C28,[2]대학수학능력시험성적!$A$2:$J$32,4,FALSE) -> 6.6159399 | L28: =VLOOKUP($C28,[2]대학수학능력시험성적!$A$2:$J$32,5,FALSE) -> 77.909091 | M28: =VLOOKUP($C28,[2]대학수학능력시험성적!$A$2:$J$32,6,FALSE) -> 7.8907834 | N28: =VLOOKUP($C28,[2]대학수학능력시험성적!$A$2:$J$32,7,FALSE) -> 86.090909 | O28: =VLOOKUP($C28,[2]대학수학능력시험성적!$A$2:$J$32,8,FALSE) -> 7.7864048 | P28: =VLOOKUP($C28,[2]대학수학능력시험성적!$A$2:$J$32,9,FALSE) -> 823.63636 | Q28: =VLOOKUP($C28,[2]대학수학능력시험성적!$A$2:$J$32,10,FALSE) -> 20.720094 | R28: =VLOOKUP(B28,[2]Sheet1!$D$2:$G$31,4,FALSE) -> 28
B29: 행정학과 | C29: 52 | D29: 15 | E29: 169 | F29: =ROUND((E29/D29),1) -> 11.3 | G29: 17 | H29: =VLOOKUP($C29,[2]학생부성적!$A$5:$D$36,3,FALSE) -> 3.688125 | I29: =VLOOKUP($C29,[2]학생부성적!$A$5:$D$36,4,FALSE) -> 0.70551593 | J29: =VLOOKUP($C29,[2]대학수학능력시험성적!$A$2:$J$32,3,FALSE) -> 82.176471 | K29: =VLOOKUP($C29,[2]대학수학능력시험성적!$A$2:$J$32,4,FALSE) -> 5.4904762 | L29: =VLOOKUP($C29,[2]대학수학능력시험성적!$A$2:$J$32,5,FALSE) -> 77.058824 | M29: =VLOOKUP($C29,[2]대학수학능력시험성적!$A$2:$J$32,6,FALSE) -> 7.7343435 | N29: =VLOOKUP($C29,[2]대학수학능력시험성적!$A$2:$J$32,7,FALSE) -> 85 | O29: =VLOOKUP($C29,[2]대학수학능력시험성적!$A$2:$J$32,8,FALSE) -> 8.6636496 | P29: =VLOOKUP($C29,[2]대학수학능력시험성적!$A$2:$J$32,9,FALSE) -> 842.71529 | Q29: =VLOOKUP($C29,[2]대학수학능력시험성적!$A$2:$J$32,10,FALSE) -> 18.058314 | R29: =VLOOKUP(B29,[2]Sheet1!$D$2:$G$31,4,FALSE) -> 21
B30: 법학과 | C30: 53 | D30: 22 | E30: 122 | F30: =ROUND((E30/D30),1) -> 5.5 | G30: 21 | H30: =VLOOKUP($C30,[2]학생부성적!$A$5:$D$36,3,FALSE) -> 3.4389474 | I30: =VLOOKUP($C30,[2]학생부성적!$A$5:$D$36,4,FALSE) -> 0.65742636 | J30: =VLOOKUP($C30,[2]대학수학능력시험성적!$A$2:$J$32,3,FALSE) -> 80.238095 | K30: =VLOOKUP($C30,[2]대학수학능력시험성적!$A$2:$J$32,4,FALSE) -> 8.0941176 | L30: =VLOOKUP($C30,[2]대학수학능력시험성적!$A$2:$J$32,5,FALSE) -> 77.714286 | M30: =VLOOKUP($C30,[2]대학수학능력시험성적!$A$2:$J$32,6,FALSE) -> 7.553888 | N30: =VLOOKUP($C30,[2]대학수학능력시험성적!$A$2:$J$32,7,FALSE) -> 79.809524 | O30: =VLOOKUP($C30,[2]대학수학능력시험성적!$A$2:$J$32,8,FALSE) -> 14.434149 | P30: =VLOOKUP($C30,[2]대학수학능력시험성적!$A$2:$J$32,9,FALSE) -> 844.34429 | Q30: =VLOOKUP($C30,[2]대학수학능력시험성적!$A$2:$J$32,10,FALSE) -> 18.387354 | R30: =VLOOKUP(B30,[2]Sheet1!$D$2:$G$31,4,FALSE) -> 18
B31: 영어학과 | C31: 54 | D31: 15 | E31: 191 | F31: =ROUND((E31/D31),1) -> 12.7 | G31: 15 | H31: =VLOOKUP($C31,[2]학생부성적!$A$5:$D$36,3,FALSE) -> 2.8508333 | I31: =VLOOKUP($C31,[2]학생부성적!$A$5:$D$36,4,FALSE) -> 0.61625831 | J31: =VLOOKUP($C31,[2]대학수학능력시험성적!$A$2:$J$32,3,FALSE) -> 83.066667 | K31: =VLOOKUP($C31,[2]대학수학능력시험성적!$A$2:$J$32,4,FALSE) -> 6.9901518 | L31: =VLOOKUP($C31,[2]대학수학능력시험성적!$A$2:$J$32,5,FALSE) -> 77.4 | M31: =VLOOKUP($C31,[2]대학수학능력시험성적!$A$2:$J$32,6,FALSE) -> 7.3918874 | N31: =VLOOKUP($C31,[2]대학수학능력시험성적!$A$2:$J$32,7,FALSE) -> 82.533333 | O31: =VLOOKUP($C31,[2]대학수학능력시험성적!$A$2:$J$32,8,FALSE) -> 8.800505 | P31: =VLOOKUP($C31,[2]대학수학능력시험성적!$A$2:$J$32,9,FALSE) -> 858.59867 | Q31: =VLOOKUP($C31,[2]대학수학능력시험성적!$A$2:$J$32,10,FALSE) -> 18.69798 | R31: =VLOOKUP(B31,[2]Sheet1!$D$2:$G$31,4,FALSE) -> 15
B32: 미디어문예창작학과 | C32: 55 | D32: 9 | E32: 49 | F32: =ROUND((E32/D32),1) -> 5.4 | G32: 9 | H32: =VLOOKUP($C32,[2]학생부성적!$A$5:$D$36,3,FALSE) -> 3.57 | I32: =VLOOKUP($C32,[2]학생부성적!$A$5:$D$36,4,FALSE) -> 0.80342126 | J32: =VLOOKUP($C32,[2]대학수학능력시험성적!$A$2:$J$32,3,FALSE) -> 84.555556 | K32: =VLOOKUP($C32,[2]대학수학능력시험성적!$A$2:$J$32,4,FALSE) -> 9.0690084 | L32: =VLOOKUP($C32,[2]대학수학능력시험성적!$A$2:$J$32,5,FALSE) -> 79.888889 | M32: =VLOOKUP($C32,[2]대학수학능력시험성적!$A$2:$J$32,6,FALSE) -> 13.674343 | N32: =VLOOKUP($C32,[2]대학수학능력시험성적!$A$2:$J$32,7,FALSE) -> 83.333333 | O32: =VLOOKUP($C32,[2]대학수학능력시험성적!$A$2:$J$32,8,FALSE) -> 9.0431066 | P32: =VLOOKUP($C32,[2]대학수학능력시험성적!$A$2:$J$32,9,FALSE) -> 863.24778 | Q32: =VLOOKUP($C32,[2]대학수학능력시험성적!$A$2:$J$32,10,FALSE) -> 42.628051 | R32: =VLOOKUP(B32,[2]Sheet1!$D$2:$G$31,4,FALSE) -> 8
A33: 공과 대학 (야간) | B33: 토목안전환경공학과(야) | C33: 61 | D33: 38 | E33: 164 | F33: =ROUND((E33/D33),1) -> 4.3 | G33: 39 | H33: =VLOOKUP($C33,[2]학생부성적!$A$5:$D$36,3,FALSE) -> 4.6373684 | I33: =VLOOKUP($C33,[2]학생부성적!$A$5:$D$36,4,FALSE) -> 0.67951873 | J33: =VLOOKUP($C33,[2]대학수학능력시험성적!$A$2:$J$32,3,FALSE) -> 61.282051 | K33: =VLOOKUP($C33,[2]대학수학능력시험성적!$A$2:$J$32,4,FALSE) -> 15.577678 | L33: =VLOOKUP($C33,[2]대학수학능력시험성적!$A$2:$J$32,5,FALSE) -> 57.641026 | M33: =VLOOKUP($C33,[2]대학수학능력시험성적!$A$2:$J$32,6,FALSE) -> 12.742996 | N33: =VLOOKUP($C33,[2]대학수학능력시험성적!$A$2:$J$32,7,FALSE) -> 72 | O33: =VLOOKUP($C33,[2]대학수학능력시험성적!$A$2:$J$32,8,FALSE) -> 16.24492 | P33: =VLOOKUP($C33,[2]대학수학능력시험성적!$A$2:$J$32,9,FALSE) -> 741.30846 | Q33: =VLOOKUP($C33,[2]대학수학능력시험성적!$A$2:$J$32,10,FALSE) -> 20.416131 | R33: =VLOOKUP(B33,[2]Sheet1!$D$2:$G$31,4,FALSE) -> 20
B34: 화학공학과(야) | C34: 62 | D34: 11 | E34: 77 | F34: =ROUND((E34/D34),1) -> 7 | G34: 11 | H34: =VLOOKUP($C34,[2]학생부성적!$A$5:$D$36,3,FALSE) -> 4.12 | I34: =VLOOKUP($C34,[2]학생부성적!$A$5:$D$36,4,FALSE) -> 0.84294457 | J34: =VLOOKUP($C34,[2]대학수학능력시험성적!$A$2:$J$32,3,FALSE) -> 70.090909 | K34: =VLOOKUP($C34,[2]대학수학능력시험성적!$A$2:$J$32,4,FALSE) -> 16.205804 | L34: =VLOOKUP($C34,[2]대학수학능력시험성적!$A$2:$J$32,5,FALSE) -> 58.181818 | M34: =VLOOKUP($C34,[2]대학수학능력시험성적!$A$2:$J$32,6,FALSE) -> 12.171638 | N34: =VLOOKUP($C34,[2]대학수학능력시험성적!$A$2:$J$32,7,FALSE) -> 71.909091 | O34: =VLOOKUP($C34,[2]대학수학능력시험성적!$A$2:$J$32,8,FALSE) -> 16.881698 | P34: =VLOOKUP($C34,[2]대학수학능력시험성적!$A$2:$J$32,9,FALSE) -> 765.44182 | Q34: =VLOOKUP($C34,[2]대학수학능력시험성적!$A$2:$J$32,10,FALSE) -> 15.97672 | R34: =VLOOKUP(B34,[2]Sheet1!$D$2:$G$31,4,FALSE) -> 8
B35: 식품생물공학과(야) | C35: 63 | D35: 14 | E35: 79 | F35: =ROUND((E35/D35),1) -> 5.6 | G35: 14 | H35: =VLOOKUP($C35,[2]학생부성적!$A$5:$D$36,3,FALSE) -> 4.6971429 | I35: =VLOOKUP($C35,[2]학생부성적!$A$5:$D$36,4,FALSE) -> 0.63541245 | J35: =VLOOKUP($C35,[2]대학수학능력시험성적!$A$2:$J$32,3,FALSE) -> 69.285714 | K35: =VLOOKUP($C35,[2]대학수학능력시험성적!$A$2:$J$32,4,FALSE) -> 10.989791 | L35: =VLOOKUP($C35,[2]대학수학능력시험성적!$A$2:$J$32,5,FALSE) -> 59.285714 | M35: =VLOOKUP($C35,[2]대학수학능력시험성적!$A$2:$J$32,6,FALSE) -> 11.774237 | N35: =VLOOKUP($C35,[2]대학수학능력시험성적!$A$2:$J$32,7,FALSE) -> 71.928571 | O35: =VLOOKUP($C35,[2]대학수학능력시험성적!$A$2:$J$32,8,FALSE) -> 13.651082 | P35: =VLOOKUP($C35,[2]대학수학능력시험성적!$A$2:$J$32,9,FALSE) -> 755.99 | Q35: =VLOOKUP($C35,[2]대학수학능력시험성적!$A$2:$J$32,10,FALSE) -> 11.940491 | R35: =VLOOKUP(B35,[2]Sheet1!$D$2:$G$31,4,FALSE) -> 7
B36: 전기전자제어공학과(야) | C36: 64 | D36: 10 | E36: 99 | F36: =ROUND((E36/D36),1) -> 9.9 | G36: 11 | H36: =VLOOKUP($C36,[2]학생부성적!$A$5:$D$36,3,FALSE) -> 4.6122222 | I36: =VLOOKUP($C36,[2]학생부성적!$A$5:$D$36,4,FALSE) -> 0.63506391 | J36: =VLOOKUP($C36,[2]대학수학능력시험성적!$A$2:$J$32,3,FALSE) -> 68.181818 | K36: =VLOOKUP($C36,[2]대학수학능력시험성적!$A$2:$J$32,4,FALSE) -> 15.176646 | L36: =VLOOKUP($C36,[2]대학수학능력시험성적!$A$2:$J$32,5,FALSE) -> 60.636364 | M36: =VLOOKUP($C36,[2]대학수학능력시험성적!$A$2:$J$32,6,FALSE) -> 9.9477976 | N36: =VLOOKUP($C36,[2]대학수학능력시험성적!$A$2:$J$32,7,FALSE) -> 73.272727 | O36: =VLOOKUP($C36,[2]대학수학능력시험성적!$A$2:$J$32,8,FALSE) -> 12.136279 | P36: =VLOOKUP($C36,[2]대학수학능력시험성적!$A$2:$J$32,9,FALSE) -> 762.94545 | Q36: =VLOOKUP($C36,[2]대학수학능력시험성적!$A$2:$J$32,10,FALSE) -> 14.775843 | R36: =VLOOKUP(B36,[2]Sheet1!$D$2:$G$31,4,FALSE) -> 8
A37: 총 계 | C37: 총합계 | D37: 581 | E37: 3462 | F37: =ROUND((E37/D37),1) -> 6 | G37: 583 | H37: =VLOOKUP($C37,[2]학생부성적!$A$5:$D$36,3,FALSE) -> 4.0306341 | I37: =VLOOKUP($C37,[2]학생부성적!$A$5:$D$36,4,FALSE) -> 0.85983365 | J37: =VLOOKUP($C37,[2]대학수학능력시험성적!$A$2:$J$32,3,FALSE) -> 73.300172 | K37: =VLOOKUP($C37,[2]대학수학능력시험성적!$A$2:$J$32,4,FALSE) -> 13.527589 | L37: =VLOOKUP($C37,[2]대학수학능력시험성적!$A$2:$J$32,5,FALSE) -> 66.96741 | M37: =VLOOKUP($C37,[2]대학수학능력시험성적!$A$2:$J$32,6,FALSE) -> 12.984777 | N37: =VLOOKUP($C37,[2]대학수학능력시험성적!$A$2:$J$32,7,FALSE) -> 76.588336 | O37: =VLOOKUP($C37,[2]대학수학능력시험성적!$A$2:$J$32,8,FALSE) -> 13.789971 | P37: =VLOOKUP($C37,[2]대학수학능력시험성적!$A$2:$J$32,9,FALSE) -> 801.76118 | Q37: =VLOOKUP($C37,[2]대학수학능력시험성적!$A$2:$J$32,10,FALSE) -> 33.678448
A39: ※ 경영학과 수능 100% 선발

Sheet 체육특기자
A2: 2013학년도 신입학 체육특기자 최종 등록자(입학생) 평균 성적현황
A5: 단과대학 | B5: 모집단위명 | D5: 모집 인원 | E5: 지원 인원 | F5: 경쟁률 | G5: 입학 인원 | H5: 학생부 등급 (평균) | I5: 표준 편차 | J5: 추가발표 최종 예비순위
A6: 자연과학대학 | B6: 스포츠과학과 | C6: 46 | D6: 2 | E6: 3 | F6: 1.5 | G6: 2 | H6: 8.46 | I6: 0.2 | J6: 0
A7: 총계 | C7: 총합계 | D7: 2 | E7: 3 | F7: 1.5 | G7: 2 | H7: 8.46 | I7: 0.2

Sheet 학교장추천자
A2: 2013학년도 신입학 학교장추천자 최종 등록자(입학생) 평균 성적현황
A5: 단과대학 | B5: 모집단위명 | D5: 모집 인원 | E5: 지원 인원 | F5: 경쟁률 | G5: 입학 인원 | H5: 학생부 등급 (평균) | I5: 표준 편차 | J5: 추가발표 최종 예비순위
A6: 농업생명 과학대학 | B6: 식물생명환경과학과 | C6: 11 | D6: 2 | E6: 10 | F6: 5 | G6: 2 | H6: 2.625 | I6: 0.405 | J6: 1
B7: 동물생명환경과학과 | C7: 12 | D7: 3 | E7: 21 | F7: 7 | G7: 3 | H7: 1.99 | I7: 0.50576674 | J7: 1
B8: 원예학과 | C8: 13 | D8: 2 | E8: 6 | F8: 3 | G8: 2 | H8: 3.215 | I8: 1.415 | J8: 4
B9: 지역자원시스템공학과 | C9: 14 | D9: 3 | E9: 15 | F9: 5 | G9: 3 | H9: 2.7466667 | I9: 0.15326085 | J9: 3
B10: 생명공학과 | C10: 15 | D10: 1 | E10: 23 | F10: 23 | G10: 0 | H10: 0 | I10: 0 | J10: 0
A11: 공과대학 | B11: 토목안전환경공학과 | C11: 21 | D11: 2 | E11: 9 | F11: 4.5 | G11: 2 | H11: 3.33 | I11: 0.53 | J11: 1
B12: 건축학부-건축학전공(5년) | C12: 22 | D12: 1 | E12: 6 | F12: 6 | G12: 1 | H12: 2.16 | I12: 0
B13: 건축학부-건축공학전공 | C13: 23 | D13: 1 | E13: 9 | F13: 9 | G13: 1 | H13: 2.9 | I13: 0 | J13: 2
B14: 화학공학과 | C14: 24 | D14: 2 | E14: 9 | F14: 4.5 | G14: 2 | H14: 2.42 | I14: 0.43 | J14: 2
B15: 식품생물공학과 | C15: 25 | D15: 1 | E15: 10 | F15: 10 | G15: 1 | H15: 1.61 | I15: 0 | J15: 0
B16: 컴퓨터웹정보공학과 | C16: 26 | D16: 2 | E16: 9 | F16: 4.5 | G16: 2 | H16: 2.625 | I16: 0.625 | J16: 4
B17: 전기전자제어공학과 | C17: 27 | D17: 6 | E17: 28 | F17: 4.7 | G17: 6 | H17: 2.9283333 | I17: 0.27425151 | J17: 12
B18: 기계공학과 | C18: 31 | D18: 1 | E18: 6 | F18: 6 | G18: 1 | H18: 1.77 | I18: 0 | J18: 3
A19: 자연과학 대학 | B19: 조경학과 | C19: 41 | D19: 3 | E19: 18 | F19: 6 | G19: 3 | H19: 2.4566667 | I19: 0.14337209 | J19: 1
B20: 의류산업학과 | C20: 42 | D20: 2 | E20: 16 | F20: 8 | G20: 2 | H20: 2.335 | I20: 0.065 | J20: 1
B21: 영양조리과학과 | C21: 43 | D21: 1 | E21: 9 | F21: 9 | G21: 1 | H21: 1.43 | I21: 0 | J21: 0
B22: 아동가족복지학과 | C22: 44 | D22: 2 | E22: 14 | F22: 7 | G22: 2 | H22: 1.595 | I22: 0.095 | J22: 1
B23: 응용수학과 | C23: 45 | D23: 1 | E23: 4 | F23: 4 | G23: 1 | H23: 2.89 | I23: 0 | J23: 0
A24: 인문사회 과학대학 | B24: 경영학과 | C24: 51 | D24: 2 | E24: 15 | F24: 7.5 | G24: 1 | H24: 1.62 | I24: 0 | J24: 6
B25: 행정학과 | C25: 52 | D25: 1 | E25: 7 | F25: 7 | G25: 0 | H25: 0 | I25: 0 | J25: 0
B26: 법학과 | C26: 53 | D26: 3 | E26: 12 | F26: 4 | G26: 3 | H26: 3.0133333 | I26: 0.37187214 | J26: 4
A27: 공과대학(야) | B27: 화학공학과(야) | C27: 62 | D27: 1 | E27: 4 | F27: 4 | G27: 1 | H27: 4.77 | I27: 0 | J27: 1
B28: 식품생물공학과(야) | C28: 63 | D28: 1 | E28: 9 | F28: 9 | G28: 1 | H28: 2.37 | I28: 0 | J28: 0
B29: 전기전자제어공학과(야) | C29: 64 | D29: 2 | E29: 8 | F29: 4 | G29: 1 | H29: 1.69 | I29: 0 | J29: 1
A30: 총계 | C30: 총합계 | D30: 46 | E30: 277 | F30: 6 | G30: 42 | H30: 2.5640476 | I30: 0.75893114

Sheet 어학능력우수자
A2: 2013학년도 신입학 어학능력우수자 최종 등록자(입학생) 평균 성적현황
A5: 단과대학 | B5: 모집단위명 | D5: 모집 인원 | E5: 지원 인원 | F5: 경쟁률 | G5: 입학 인원 | H5: 학생부 등급 (평균) | I5: 표준 편차 | J5: 추가발표 최종 예비순위
A6: 농업생명 과학대학 | B6: 식물생명환경과학과 | C6: 11 | D6: 1 | E6: 3 | F6: 3 | G6: 1 | H6: 4.1 | I6: 0 | J6: 0
B7: 원예학과 | C7: 13 | D7: 2 | E7: 5 | F7: 2.5 | G7: 2 | H7: 5.015 | I7: 0.745 | J7: 0
B8: 생명공학과 | C8: 15 | D8: 1 | E8: 3 | F8: 3 | G8: 0 | H8: 0 | I8: 0 | J8: 2
A9: 공과대학 | B9: 토목안전환경공학과 | C9: 21 | D9: 2 | E9: 4 | F9: 2 | G9: 1 | H9: 2.07 | I9: 0 | J9: 2
B10: 식품생물공학과 | C10: 25 | D10: 1 | E10: 3 | F10: 3 | G10: 1 | H10: 5.74 | I10: 0 | J10: 1
B11: 전기전자제어공학과 | C11: 27 | D11: 5 | E11: 12 | F11: 2.4 | G11: 2 | H11: 3.73 | I11: 1.2 | J11: 5
A12: 인문사회 과학대학 | B12: 경영학과 | C12: 51 | D12: 2 | E12: 21 | F12: 10.5 | G12: 2 | H12: 1.565 | I12: 0.165 | J12: 1
B13: 행정학과 | C13: 52 | D13: 1 | E13: 8 | F13: 8 | G13: 1 | H13: 1.6 | I13: 0 | J13: 0
B14: 영어학과 | C14: 54 | D14: 2 | E14: 14 | F14: 7 | G14: 1 | H14: 4.36 | I14: 0 | J14: 2
B15: 미디어문예창작학과 | C15: 55 | D15: 1 | E15: 6 | F15: 6 | G15: 1 | H15: 2.33 | I15: 0 | J15: 0
A16: 총계 | C16: 총합계 | D16: 18 | E16: 79 | F16: 4.4 | G16: 12 | H16: 3.4016667 | I16: 1.5613607

Sheet 특정역량우수자
A2: 2013학년도 신입학 특정역량우수자 최종 등록자(입학생) 평균 성적현황
A4: 단과대학 | B4: 모집단위명 | D4: 모집 인원 | E4: 지원 인원 | F4: 경쟁률 | G4: 입학 인원 | H4: 학생부 등급 (평균) | I4: 표준 편차 | J4: 추가발표 최종 예비순위
A5: 농업생명 과학대학 | B5: 식물생명환경과학과 | C5: 11 | E5: 0 | F5: #DIV/0! | G5: 0 | H5: 0 | I5: 0 | J5: #N/A
B6: 동물생명환경과학과 | C6: 12 | E6: 0 | F6: #DIV/0! | G6: 0 | H6: 0 | I6: 0 | J6: #N/A
B7: 원예학과 | C7: 13 | E7: 0 | F7: #DIV/0! | G7: 0 | H7: 0 | I7: 0 | J7: #N/A
B8: 지역자원시스템공학과 | C8: 14 | E8: 0 | F8: #DIV/0! | G8: 0 | H8: 0 | I8: 0 | J8: #N/A
B9: 생명공학과 | C9: 15 | E9: 0 | F9: #DIV/0! | G9: 0 | H9: 0 | I9: 0 | J9: #N/A
A10: 공과대학 | B10: 토목안전환경공학과 | C10: 21 | E10: 0 | F10: #DIV/0! | G10: 0 | H10: 0 | I10: 0 | J10: #N/A
B11: 건축학부-건축학전공(5년) | C11: 22 | D11: 1 | E11: 1 | F11: 1
B12: 건축학부-건축공학전공 | C12: 23 | D12: 1 | E12: 1 | F12: 1 | G12: 1 | H12: 3.83
B13: 화학공학과 | C13: 24 | D13: 1 | E13: 1 | F13: 1 | G13: 1 | H13: 1.89
B14: 식품생물공학과 | C14: 25 | D14: 1 | E14: 1 | F14: 1 | G14: 1 | H14: 3
B15: 컴퓨터웹정보공학과 | C15: 26 | D15: 2 | E15: 7 | F15: 3.5 | G15: 1 | H15: 4.29
A16: 자연과학대학 | B16: 영양조리과학과 | C16: 43 | D16: 1 | E16: 7 | F16: 7 | G16: 1 | H16: 4.41 | J16: 1
B17: 응용수학과 | C17: 45 | D17: 1 | H17: 0
A18: 인문사회 과학대학 | B18: 미디어문예창작학과 | C18: 55 | D18: 1 | E18: 5 | F18: 5 | G18: 1 | H18: 3.33
A19: 공과대학(야) | B19: 화학공학과(야) | C19: 62 | D19: 1
B20: 식품생물공학과(야) | C20: 63 | D20: 1
A21: 총계 | C21: 총합계 | D21: 11 | E21: 23 | F21: 2.1 | G21: 6 | H21: 3.4583333 | I21: 0.8584563

Sheet 사회적보호(배려)
A2: 2013학년도 신입학 사회적보호(배려) 최종 등록자(입학생) 평균 성적현황
A4: 단과대학 | B4: 모집단위명 | D4: 모집 인원 | E4: 지원 인원 | F4: 경쟁률 | G4: 입학 인원 | H4: 학생부 등급 (평균) | I4: 표준 편차 | J4: 추가발표 최종 예비순위
A5: 농업생명 과학대학 | B5: 식물생명환경과학과 | C5: 11 | D5: 3 | E5: 11 | F5: 3.7 | G5: 3 | H5: 3.33 | I5: 0.85568686 | J5: 3
B6: 동물생명환경과학과 | C6: 12 | D6: 4 | E6: 17 | F6: 4.3 | G6: 4 | H6: 3.8525 | I6: 0.43234101 | J6: 2
B7: 생명공학과 | C7: 15 | D7: 1 | E7: 4 | F7: 4 | G7: 1 | H7: 5.17 | I7: 0 | J7: 1
A8: 공과대학 | B8: 토목안전환경공학과 | C8: 21 | D8: 3 | E8: 8 | F8: 2.7 | G8: 2 | H8: 4.435 | I8: 0.395 | J8: 1
B9: 화학공학과 | C9: 24 | D9: 1 | E9: 4 | F9: 4 | G9: 1 | H9: 3.45 | I9: 0 | J9: 0
B10: 식품생물공학과 | C10: 25 | D10: 1 | E10: 7 | F10: 7 | G10: 1 | H10: 3.25 | I10: 0 | J10: 2
B11: 컴퓨터웹정보공학과 | C11: 26 | D11: 2 | E11: 8 | F11: 4 | G11: 2 | H11: 4.635 | I11: 0.145 | J11: 0
B12: 전기전자제어공학과 | C12: 27 | D12: 3 | E12: 16 | F12: 5.3 | G12: 3 | H12: 3.2433333 | I12: 0.5067763 | J12: 2
B13: 기계공학과 | C13: 31 | D13: 2 | E13: 8 | F13: 4 | G13: 2 | H13: 2.665 | I13: 1.285 | J13: 1
A14: 자연과학대학 | B14: 조경학과 | C14: 41 | D14: 2 | E14: 7 | F14: 3.5 | G14: 2 | H14: 3.75 | I14: 0.11 | J14: 0
A15: 인문사회 과학대학 | B15: 경영학과 | C15: 51 | D15: 1 | E15: 4 | F15: 4 | G15: 1 | H15: 1.85 | I15: 0 | J15: 0
B16: 행정학과 | C16: 52 | D16: 1 | E16: 6 | F16: 6 | G16: 0 | H16: 0 | I16: 0 | J16: 2
B17: 법학과 | C17: 53 | D17: 2 | E17: 9 | F17: 4.5 | G17: 2 | H17: 3.315 | I17: 0.155 | J17: 1
B18: 영어학과 | C18: 54 | D18: 1 | E18: 3 | F18: 3 | G18: 1 | H18: 2.87 | I18: 0 | J18: 0
A19: 공과대학 (야간) | B19: 토목안전환경공학과(야) | C19: 61 | D19: 6 | E19: 19 | F19: 3.2 | G19: 5 | H19: 3.652 | I19: 0.18659046 | J19: 0
B20: 식품생물공학과(야) | C20: 63 | D20: 1 | E20: 8 | F20: 8 | G20: 0 | H20: 0 | I20: 0 | J20: 1
A21: 총계 | C21: 총합계 | D21: 34 | E21: 139 | F21: 4.1 | G21: 30 | H21: 3.586 | I21: 0.82013657

Sheet 특성화고교출신자
A2: 2013학년도 신입학 특성화고교출신자 최종 등록자(입학생) 평균 성적현황
A4: 단과대학 | B4: 모집단위명 | D4: 모집 인원 | E4: 지원 인원 | F4: 경쟁률 | G4: 입학 인원 | H4: 학생부 등급 (평균) | I4: 표준 편차 | J4: 추가발표 최종 예비순위
A5: 농업생명 과학대학 | B5: 식물생명환경과학과 | C5: 11 | D5: 1 | E5: 6 | F5: =ROUND((E5/D5),1) -> 6 | G5: 1 | H5: 1.43 | I5: 0 | J5: 0
B6: 동물생명환경과학과 | C6: 12 | D6: 1 | E6: 6 | F6: =ROUND((E6/D6),1) -> 6 | G6: 1 | H6: 2.96 | I6: 0 | J6: 4
B7: 원예학과 | C7: 13 | D7: 1 | E7: 9 | F7: =ROUND((E7/D7),1) -> 9 | G7: 1 | H7: 2.68 | I7: 0 | J7: 0
B8: 지역자원시스템공학과 | C8: 14 | D8: 1 | E8: 7 | F8: =ROUND((E8/D8),1) -> 7 | G8: 1 | H8: 2.36 | I8: 0 | J8: 1
B9: 생명공학과 | C9: 15 | D9: 1 | E9: 5 | F9: =ROUND((E9/D9),1) -> 5 | G9: 1 | H9: 2.8 | I9: 0 | J9: 1
A10: 공과대학 | B10: 토목안전환경공학과 | C10: 21 | D10: 4 | E10: 39 | F10: =ROUND((E10/D10),1) -> 9.8 | G10: 4 | H10: 1.9025 | I10: 0.31877696 | J10: 6
B11: 건축학부-건축학전공(5년) | C11: 22 | D11: 1 | E11: 17 | F11: =ROUND((E11/D11),1) -> 17 | G11: 1 | H11: 1.75 | I11: 0 | J11: 1
B12: 건축학부-건축공학전공 | C12: 23 | D12: 1 | E12: 19 | F12: =ROUND((E12/D12),1) -> 19 | G12: 1 | H12: 3.48 | I12: 0 | J12: 3
B13: 화학공학과 | C13: 24 | D13: 4 | E13: 28 | F13: =ROUND((E13/D13),1) -> 7 | G13: 4 | H13: 1.945 | I13: 0.56940759 | J13: 6
B14: 식품생물공학과 | C14: 25 | D14: 4 | E14: 22 | F14: =ROUND((E14/D14),1) -> 5.5 | G14: 4 | H14: 1.81 | I14: 0.36311155 | J14: 2
B15: 컴퓨터웹정보공학과 | C15: 26 | D15: 2 | E15: 27 | F15: =ROUND((E15/D15),1) -> 13.5 | G15: 2 | H15: 1.885 | I15: 0.085 | J15: 5
B16: 전기전자제어공학과 | C16: 27 | D16: 4 | E16: 54 | F16: =ROUND((E16/D16),1) -> 13.5 | G16: 4 | H16: 1.6175 | I16: 0.47646485 | J16: 8
B17: 기계공학과 | C17: 31 | D17: 2 | E17: 21 | F17: =ROUND((E17/D17),1) -> 10.5 | G17: 2 | H17: 1.485 | I17: 0.005 | J17: 1
A18: 자연과학대학 | B18: 조경학과 | C18: 41 | D18: 2 | E18: 18 | F18: =ROUND((E18/D18),1) -> 9 | G18: 2 | H18: 1.51 | I18: 0.51 | J18: 5
B19: 의류산업학과 | C19: 42 | D19: 2 | E19: 15 | F19: =ROUND((E19/D19),1) -> 7.5 | G19: 2 | H19: 2.005 | I19: 0.345 | J19: 0
B20: 영양조리과학과 | C20: 43 | D20: 2 | E20: 24 | F20: =ROUND((E20/D20),1) -> 12 | G20: 2 | H20: 1.485 | I20: 0.115 | J20: 2
A21: 총계 | C21: 총합계 | D21: 33 | E21: 317 | F21: =ROUND((E21/D21),1) -> 9.6 | G21: 33 | H21: 1.9181818 | I21: 0.57196871

Sheet 농어촌학생
A2: 2013학년도 신입학 농어촌학생 최종 등록자(입학생) 평균 성적현황
A4: 단과대학 | B4: 모집단위명 | D4: 모집 인원 | E4: 지원 인원 | F4: 경쟁률 | G4: 입학 인원 | H4: 학생부 등급 (평균) | I4: 표준 편차 | J4: 추가발표 최종 예비순위
A5: 농업생명 과학대학 | B5: 식물생명환경과학과 | C5: 11 | D5: 2 | E5: 14 | F5: 7 | G5: 2 | H5: 2.97 | I5: 0.33 | J5: 4
B6: 동물생명환경과학과 | C6: 12 | D6: 2 | E6: 10 | F6: 5 | G6: 2 | H6: 2.81 | I6: 0.15 | J6: 0
B7: 원예학과 | C7: 13 | D7: 2 | E7: 9 | F7: 4.5 | G7: 2 | H7: 2.395 | I7: 0.615 | J7: 2
B8: 지역자원시스템공학과 | C8: 14 | D8: 2 | E8: 11 | F8: 5.5 | G8: 2 | H8: 3.305 | I8: 0.115 | J8: 5
B9: 생명공학과 | C9: 15 | D9: 2 | E9: 16 | F9: 8 | G9: 2 | H9: 3.66 | I9: 0.33 | J9: 6
A10: 공과대학 | B10: 토목안전환경공학과 | C10: 21 | D10: 2 | E10: 7 | F10: 3.5 | G10: 2 | H10: 3.595 | I10: 0.205 | J10: 4
B11: 건축학부-건축학전공(5년) | C11: 22 | D11: 1 | E11: 9 | F11: 9 | G11: 1 | H11: 2.85 | I11: 0
B12: 화학공학과 | C12: 24 | D12: 3 | E12: 18 | F12: 6 | G12: 3 | H12: 2.87 | I12: 0.14236104 | J12: 5
B13: 식품생물공학과 | C13: 25 | D13: 2 | E13: 9 | F13: 4.5 | G13: 2 | H13: 2.995 | I13: 0.045 | J13: 2
B14: 컴퓨터웹정보공학과 | C14: 26 | D14: 1 | E14: 7 | F14: 7 | G14: 1 | H14: 2.85 | I14: 0 | J14: 2
B15: 전기전자제어공학과 | C15: 27 | D15: 2 | E15: 16 | F15: 8 | G15: 1 | H15: 3.11 | I15: 0 | J15: 5
B16: 기계공학과 | C16: 31 | D16: 1 | E16: 11 | F16: 11 | G16: 1 | H16: 1.8 | I16: 0 | J16: 1
A17: 자연과학대학 | B17: 조경학과 | C17: 41 | D17: 1 | E17: 6 | F17: 6 | G17: 1 | H17: 3.76 | I17: 0 | J17: 1
B18: 의류산업학과 | C18: 42 | D18: 2 | E18: 19 | F18: 9.5 | G18: 1 | H18: 3.17 | I18: 0 | J18: 2
B19: 영양조리과학과 | C19: 43 | D19: 2 | E19: 7 | F19: 3.5 | G19: 2 | H19: 2.835 | I19: 0.205 | J19: 0
B20: 아동가족복지학과 | C20: 44 | D20: 2 | E20: 22 | F20: 11 | G20: 2 | H20: 2.005 | I20: 0.245 | J20: 3
B21: 응용수학과 | C21: 45 | D21: 2 | E21: 8 | F21: 4 | G21: 2 | H21: 3.29 | I21: 0.26 | J21: 4
B22: 스포츠과학과 | C22: 46 | D22: 1 | E22: 12 | F22: 12 | G22: 1 | H22: 1.5 | I22: 0 | J22: 0
A23: 인문사회 과학대학 | B23: 경영학과 | C23: 51 | D23: 1 | E23: 6 | F23: 6 | G23: 1 | H23: 1.1 | I23: 0 | J23: 1
B24: 행정학과 | C24: 52 | D24: 1 | E24: 8 | F24: 8 | G24: 1 | H24: 1.74 | I24: 0 | J24: 1
B25: 법학과 | C25: 53 | D25: 1 | E25: 10 | F25: 10 | G25: 0 | H25: 0 | I25: 0 | J25: 3
B26: 영어학과 | C26: 54 | D26: 1 | E26: 13 | F26: 13 | G26: 1 | H26: 3.01 | I26: 0 | J26: 4
B27: 미디어문예창작학과 | C27: 55 | D27: 2 | E27: 13 | F27: 6.5 | G27: 2 | H27: 1.97 | I27: 0.4 | J27: 0
A28: 총계 | C28: 총합계 | D28: 38 | E28: 261 | F28: 6.9 | G28: 35 | H28: 2.776 | I28: 0.6930974

Sheet 기초생활수급자
A2: 2013학년도 신입학 기초생활수급자 최종 등록자(입학생) 평균 성적현황
A4: 단과대학 | B4: 모집단위명 | D4: 모집 인원 | E4: 지원 인원 | F4: 경쟁률 | G4: 입학 인원 | H4: 학생부 등급 (평균) | I4: 표준 편차 | J4: 추가발표 최종 예비순위
A5: 자연과학 대학 | B5: 아동가족복지학과 | C5: 44 | D5: 2 | E5: 19 | F5: 9.5 | G5: 2 | H5: 3.03 | I5: 0.06 | J5: 6
B6: 응용수학과 | C6: 45 | D6: 2 | E6: 7 | F6: 3.5 | G6: 2 | H6: 3.085 | I6: 0.185 | J6: 0
B7: 스포츠과학과 | C7: 46 | D7: 2 | E7: 10 | F7: 5 | G7: 1 | H7: 3.43 | I7: 0 | J7: 0
A8: 인문사회 과학대학 | B8: 경영학과 | C8: 51 | D8: 2 | E8: 20 | F8: 10 | G8: 2 | H8: 3.7 | I8: 0 | J8: 3
B9: 행정학과 | C9: 52 | D9: 2 | E9: 15 | F9: 7.5 | G9: 2 | H9: 1.925 | I9: 0.525 | J9: 3
B10: 법학과 | C10: 53 | D10: 2 | E10: 12 | F10: 6 | G10: 2 | H10: 2.955 | I10: 0.125 | J10: 2
B11: 영어학과 | C11: 54 | D11: 2 | E11: 10 | F11: 5 | G11: 1 | H11: 3.27 | I11: 0 | J11: 2
B12: 미디어문예창작학과 | C12: 55 | D12: 2 | E12: 16 | F12: 8 | G12: 2 | H12: 2.75 | I12: 0.09 | J12: 3
A13: 총계 | C13: 총합계 | D13: 16 | E13: 109 | F13: 6.8 | G13: 14 | H13: 2.9146154 | I13: 0.53950997

Sheet 특수교육대상자
A2: 2013학년도 신입학 특수교육대상자 최종 등록자(입학생) 평균 성적현황
A4: 단과대학 | B4: 모집단위명 | D4: 모집 인원 | E4: 지원 인원 | F4: 경쟁률 | G4: 입학 인원 | H4: 학생부 등급 (평균) | I4: 표준 편차 | J4: 추가발표 최종 예비순위
A5: 자연과학 대학 | B5: 아동가족복지학과 | C5: 44 | D5: 2 | E5: 7 | F5: 3.5 | G5: 0 | H5: 0 | I5: 0 | J5: 0
B6: 응용수학과 | C6: 45 | D6: 2 | E6: 2 | F6: 1 | G6: 0 | H6: 0 | I6: 0 | J6: 0
A7: 인문사회 과학대학 | B7: 경영학과 | C7: 51 | D7: 1 | E7: 1 | F7: 1 | G7: 1 | H7: 3.02 | I7: 0 | J7: 0
B8: 행정학과 | C8: 52 | D8: 1 | E8: 3 | F8: 3 | G8: 0 | H8: 0 | I8: 0 | J8: 0
B9: 법학과 | C9: 53 | D9: 2 | E9: 3 | F9: 1.5 | G9: 2 | H9: 3.175 | I9: 0.755 | J9: 1
B10: 영어학과 | C10: 54 | D10: 1 | E10: 2 | F10: 2 | G10: 0 | H10: 0 | I10: 0
B11: 미디어문예창작학과 | C11: 55 | D11: 2 | E11: 3 | F11: 1.5 | G11: 0 | H11: 0 | I11: 0 | J11: 0
A12: 총계 | C12: 총합계 | D12: 11 | E12: 21 | F12: 1.9 | G12: 3 | H12: 3.1233333 | I12: 0.62077013

Sheet 서해5도출신자
A2: 2013학년도 신입학 서해5도 최종 등록자(입학생) 평균 성적현황
A4: 단과대학 | B4: 모집단위명 | D4: 모집 인원 | E4: 지원 인원 | F4: 경쟁률 | G4: 입학 인원 | H4: 학생부 등급 (평균) | I4: 표준 편차 | J4: 추가발표 최종 예비순위
A5: 공과대학 | B5: 건축학부-건축학전공(5년) | C5: 22 | D5: 5 | E5: 1 | G5: 0 | H5: 0 | I5: 0
B6: 전기전자제어공학과 | C6: 27 | E6: 1 | G6: 0 | H6: 0 | I6: 0 | J6: 1
A7: 자연과학대학 | B7: 영양조리과학과 | C7: 43 | E7: 1 | G7: 1 | H7: 7.37 | I7: 0 | J7: 1
A8: 인문사회 과학대학 | B8: 경영학과 | C8: 51 | E8: 3 | G8: 2 | H8: 4.215 | I8: 0.835 | J8: 0
B9: 행정학과 | C9: 52 | E9: 1 | G9: 1 | H9: 2.93 | I9: 0 | J9: 0
B10: 영어학과 | C10: 54 | E10: 1 | G10: 0 | H10: 0 | I10: 0 | J10: 0
B11: 미디어문예창작학과 | C11: 55 | E11: 0 | G11: 0 | H11: 0 | I11: 0
A12: 총계 | C12: 총합계 | D12: 5 | E12: 8 | F12: 1.6 | G12: 4 | H12: 4.6825 | I12: 1.7410826

Sheet 재직자특별전형
A2: 2013학년도 신입학 특성화고교졸 재직자 최종 등록자(입학생) 평균 성적현황
A4: 단과대학 | B4: 모집단위명 | D4: 모집 인원 | E4: 지원 인원 | F4: 경쟁률 | G4: 입학 인원 | H4: 학생부 등급 (평균) | I4: 표준 편차
A5: 공과대학 (야간) | B5: 토목안전환경공학과(야) | C5: 61 | D5: 2 | E5: 2 | F5: 1 | G5: 2 | H5: 5.735 | I5: 0.485
B6: 화학공학과(야) | C6: 62 | D6: 5 | E6: 6 | F6: 1.2 | G6: 5 | H6: 4.946 | I6: 1.382123
B7: 식품생물공학과(야) | C7: 63 | D7: 5 | E7: 5 | F7: 1 | G7: 5 | H7: 5.022 | I7: 1.1165554
B8: 전기전자제어공학과(야) | C8: 64 | D8: 8 | E8: 10 | F8: 1.3 | G8: 7 | H8: 4.1214286 | I8: 1.3395887
A9: 인사대(야간) | B9: 행정학과(글로벌물류트랙) | C9: 71 | D9: 30 | E9: 25 | F9: 0.8 | G9: 23
A10: 총계 | C10: 총합계 | D10: 50 | E10: 48 | F10: 1 | G10: 42 | H10: 4.7452632 | I10: 1.3393729
A12: ※ 행정학과(글로벌물류트랙) 면접 100% 선발
